BEGIN:VCALENDAR
VERSION:2.0
PRODID:-//eventon.com NONSGML v1.0//EN
CALSCALE:GREGORIAN
METHOD:PUBLISH
BEGIN:VEVENT
UID:69e88cecbcc00
DTSTAMP:20260422T085508Z
DTSTART:20260131T180000Z
DTEND:20260131T200000Z
LOCATION:
SUMMARY:Festival Folklórico Internacional del Almojábano con queso Tarima de Espectáculos
DESCRIPTION:Festival Folklórico Internacional del Almojábano con queso Ta
 rima de Espectáculos\nhttps://sertv.gob.pa/events/festival-folklorico-inte
 rnacional-del-almojabano-con-queso-tarima-de-espectaculos/
URL:https://sertv.gob.pa/events/festival-folklorico-internacional-del-almojabano-con-queso-tarima-de-espectaculos/
END:VEVENT
END:VCALENDAR