BEGIN:VCALENDAR
VERSION:2.0
PRODID:-//eventon.com NONSGML v1.0//EN
CALSCALE:GREGORIAN
METHOD:PUBLISH
BEGIN:VEVENT
UID:69e4cb09c711d
DTSTAMP:20260419T123105Z
DTSTART:20260310T130000Z
DTEND:20260310T140000Z
LOCATION:
SUMMARY:Sertv deportes En vivo
DESCRIPTION:Sertv deportes En vivo\nhttps://sertv.gob.pa/events/sertv-depor
 tes-en-vivo-144/
URL:https://sertv.gob.pa/events/sertv-deportes-en-vivo-144/
END:VEVENT
END:VCALENDAR