BEGIN:VCALENDAR
VERSION:2.0
PRODID:-//eventon.com NONSGML v1.0//EN
CALSCALE:GREGORIAN
METHOD:PUBLISH
BEGIN:VEVENT
UID:69e88ce927fc3
DTSTAMP:20260422T085505Z
DTSTART:20260413T060000Z
DTEND:20260413T060500Z
LOCATION:
SUMMARY:Himno Nacional
DESCRIPTION:Himno Nacional\nhttps://sertv.gob.pa/events/himno-nacional-437/
URL:https://sertv.gob.pa/events/himno-nacional-437/
END:VEVENT
END:VCALENDAR