BEGIN:VCALENDAR
VERSION:2.0
PRODID:-//eventon.com NONSGML v1.0//EN
CALSCALE:GREGORIAN
METHOD:PUBLISH
BEGIN:VEVENT
UID:69e79eccc43e8
DTSTAMP:20260421T155908Z
DTSTART:20260414T093000Z
DTEND:20260414T100000Z
LOCATION:
SUMMARY:Catch! Teenieping
DESCRIPTION:Catch! Teenieping\nhttps://sertv.gob.pa/events/catch-teenieping
 /
URL:https://sertv.gob.pa/events/catch-teenieping/
END:VEVENT
END:VCALENDAR