BEGIN:VCALENDAR
VERSION:2.0
PRODID:-//eventon.com NONSGML v1.0//EN
CALSCALE:GREGORIAN
METHOD:PUBLISH
BEGIN:VEVENT
UID:69e7a21d8e70a
DTSTAMP:20260421T161317Z
DTSTART:20260414T100000Z
DTEND:20260414T103000Z
LOCATION:
SUMMARY:Plim Plim  Un Héroe del Corazón
DESCRIPTION:Plim Plim Un Héroe del Corazón\nhttps://sertv.gob.pa/events/p
 lim-plim-un-heroe-del-corazon-171/
URL:https://sertv.gob.pa/events/plim-plim-un-heroe-del-corazon-171/
END:VEVENT
END:VCALENDAR