BEGIN:VCALENDAR
VERSION:2.0
PRODID:-//eventon.com NONSGML v1.0//EN
CALSCALE:GREGORIAN
METHOD:PUBLISH
BEGIN:VEVENT
UID:69e7a0debbf17
DTSTAMP:20260421T160758Z
DTSTART:20260419T223000Z
DTEND:20260419T230000Z
LOCATION:
SUMMARY:la lista de erick (RT)
DESCRIPTION:la lista de erick (RT)\nhttps://sertv.gob.pa/events/la-lista-de
 -erick-rt-89/
URL:https://sertv.gob.pa/events/la-lista-de-erick-rt-89/
END:VEVENT
END:VCALENDAR